Workbook

Sheet Summary of Claims
A1: List of Claims as on 02-09-2026
B3: A. Sumamry of claims:
B5: Name of the Corporate Debtor: Jord Engineers India Limited - Under CIRP
B6: Filing under clause (ca) of sub regulation (2) of regulation 13 the IBBI (Insolvency Resolution Process for Corporate Persons) Regulations, 2016
B7: (Amount in ₹)
B8: SI. No. | C8: Category of Creditor | D8: Summary of claims received | F8: Summary of claims admitted | H8: Voting (%) | I8: Amount of Contingent claims | J8: Amount of claims rejected | K8: Amount of claims under verification | L8: Details in Annexure | M8: Remarks, if any
D9: No. of claims | E9: Amount | F9: No. of claims | G9: Amount of claims admitted
B10: 1 | C10: Secured Financial Creditors | D10: 0 | E10: 0 | F10: 0 | G10: 0 | H10: 0 | I10: =+'[1]Annexure 2 - UFC (Class)'!K13 -> 0 | J10: =+'[1]Annexure 2 - UFC (Class)'!M13 -> 0 | K10: 0 | L10: 1
B11: =+B10+1 -> 2 | C11: Secured Financial Creditors (In a class - Homebuyers) | D11: 0 | E11: 0 | F11: 0 | G11: 0 | H11: 0 | I11: 0 | J11: 0 | K11: 0 | L11: 2
B12: =+B11+1 -> 3 | C12: Unsecured financial creditors | D12: 0 | F12: =-F14 -> 0 | G12: =-G14 -> 0 | H12: =-H14 -> 0 | I12: =-I14 -> 0 | J12: 0 | K12: 0 | L12: 3
B13: =+B12+1 -> 4 | C13: Operational creditors (Workmen) | D13: 0 | E13: ='[1]Annexure 5 - Workmen'!F11 -> 0 | F13: 0 | G13: ='[1]Annexure 5 - Workmen'!G11 -> 0 | H13: 0 | I13: ='[1]Annexure 5 - Workmen'!K11 -> 0 | J13: ='[1]Annexure 5 - Workmen'!N11 -> 0 | K13: 0 | L13: =+L12+1 -> 4
B14: =B13+1 -> 5 | C14: Operational creditors (Employees) | D14: 0 | E14: =+'Annexure 5 - Employees'!D11 -> 0 | F14: 0 | G14: =+'Annexure 5 - Employees'!E11 -> 0 | H14: 0 | I14: ='[1]Annexure 6 - Employees'!K11 -> 0 | J14: =+'Annexure 5 - Employees'!H11 -> 0 | K14: 0 | L14: =+L13+1 -> 5
B15: =B14+1 -> 6 | C15: Operational creditors (Government Dues) | D15: 0 | E15: =+'Annexure 6 - Govt Dues '!E11 -> 0 | F15: =+D15 -> 0 | G15: =+'Annexure 6 - Govt Dues '!F11 -> 0 | H15: 0 | I15: 0 | J15: 0 | K15: 0 | L15: =+L14+1 -> 6
B16: =B15+1 -> 7 | C16: Operational creditors (other than Workmen and Employees and Government Dues) | D16: 2 | E16: 8652680052 | F16: 2 | G16: 5104484505 | H16: 100 | I16: ='[1]Annexure 8 - OC'!L11 -> 0 | J16: 0 | K16: 3548195547 | L16: =+L15+1 -> 7 | M16: Partial Claim Under Verification
B17: =B16+1 -> 8 | C17: Other creditors, if any, (other than financial creditors and operational creditors) | D17: 0 | E17: =+'Annexure 8 - Other Cr'!D11 -> 0 | F17: 0 | G17: =+'Annexure 8 - Other Cr'!E11 -> 0 | H17: 0 | I17: =+'[1]Annexure 9 - Other Cr'!K12 -> 0 | J17: 0 | K17: 0 | L17: =+L16+1 -> 8
C18: Total | D18: =SUM(D10:D17) -> 2 | E18: =SUM(E13:E17) -> 8652680052 | F18: =SUM(F11:F17) -> 2 | G18: =SUM(G10:G17) -> 5104484505 | H18: =SUM(H11:H17) -> 100 | I18: =SUM(I10:I17) -> 0 | J18: =SUM(J10:J17) -> 0 | K18: =SUM(K10:K17) -> 3548195547

Sheet Annexure 1 - SFC 
A1: Annexure 1
A3: Name of Corporate Debtor: | C3: Jord Engineers India Limited - Under CIRP
A4: Date of Commencement of CIRP: | C4: 42947
A5: List of Creditors as on: | C5: 46267
A6: List of secured financial creditors
A7: (Amount in ₹)
A8: Sr. No. | B8: Name of creditor | C8: Details of claim received | E8: Details of claim admitted | F8: Amount of contingent claim | G8: Amount of claim not admitted | H8: Amount of claim under verification | I8: Remarks, if any | J8: Whether Security Interest Relinquished? | K8: Remarks, if any
C9: Date of receipt | D9: Amount claimed | E9: Amount of claim admitted
A10: NIL
A11: Total | D11: 0 | E11: =SUM(E10:E10) -> 0 | H11: =SUM(H10:H10) -> 0

Sheet Annexure 2 - SFC (Class A - HB)
A1: Annexure 2
A3: Name of Corporate Debtor: | C3: Jord Engineers India Limited - Under CIRP
A4: Date of Commencement of CIRP: | C4: 42947
A5: List of Creditors as on: | C5: 46267
A6: List of Secured financial creditors ( In a class - Home Buyers)
A7: (Amount in ₹)
A8: Sr. No. | B8: Name of creditor | C8: Details of claim received | E8: Details of claim admitted | F8: Related/Unrelated Party | G8: Amount of contingent claim | H8: Amount of claim rejected | I8: Amount of claim under verification | J8: Remarks, if any
C9: Date of receipt | D9: Amount claimed | E9: Amount of claim admitted
A10: NIL
B11: TOTAL

Sheet Annexure 3 - UFC (Class)
A1: Annexure 3
A3: Name of Corporate Debtor: | C3: Jord Engineers India Limited - Under CIRP
A4: Date of Commencement of CIRP: | C4: 42947
A5: List of Creditors as on: | C5: 46267
A6: List of unsecured financial creditors
A7: (Amount in ₹)
A8: Sr. No. | B8: Name of creditor | C8: Details of claim received | E8: Details of claim admitted | F8: Related/Unrelated Party | G8: Amount of contingent claim | H8: Amount of claim rejected | I8: Amount of claim under verification | J8: Remarks, if any
C9: Date of receipt | D9: Amount claimed | E9: Amount of claim admitted
A10: NIL
A11: Total

Sheet Annexure 4 - Workmen
A1: Annexure 4
A3: Name of Corporate Debtor: | C3: Jord Engineers India Limited - Under CIRP
A4: Date of Commencement of CIRP: | C4: 42947
A5: List of Creditors as on: | C5: 46267
A6: List of Operational Creditors (Workmen)
A7: (Amount in ₹)
A8: Sr. No. | B8: Name of Authorised Representative, if any | C8: Name of Employee | D8: Details of claim received | F8: Details of claim admitted | G8: Amount of contingent claim | H8: Amount of claim under verification | I8: Amount of claim rejected | J8: Remarks, if any | L8: Amount Claimed | Q8: Amount Admitted | V8: Bank Account Details
D9: Date of receipt | E9: Amount claimed | F9: Amount of claim admitted | K9: Date of Verification | L9: Salary | M9: Gratuity | N9: Leave Encashment | O9: Caution Money/ Security Deposit | P9: Total | Q9: Salary | R9: Gratuity | S9: Leave Encashment | T9: Total | U9: Underverification | V9: Account No. | W9: Bank Name | X9: Branch Address | Y9: Branch Code | Z9: IFSC Code | AA9: Designation | AB9: Declaration (Yes/No) | AC9: Email Id | AD9: Contact No. | AE9: Address | AF9: Queries Raised (with Date) | AG9: Salaray Slip
A10: NIL
A11: Total | E11: =SUM(E10:E10) -> 0 | F11: =+F10 -> 0 | G11: =+G10 -> 0 | H11: =+H10 -> 0 | I11: =+I10 -> 0

Sheet Annexure 5 - Employees
A1: Annexure 5
A3: Name of Corporate Debtor: | C3: Jord Engineers India Limited - Under CIRP
A4: Date of Commencement of CIRP: | C4: 42947
A5: List of Creditors as on: | C5: 46267
A6: List of Operational Creditors (Employees)
A8: Sr. No. | B8: Name of Employee | C8: Details of claim received | E8: Details of claim admitted | F8: Amount of contingent claim | G8: Amount of claim under verification | H8: Amount of claim not admitted | I8: Remarks, if any | K8: Amount Claimed | P8: Amount Admitted | U8: Bank Account Details | AK8: CD Records
C9: Date of receipt | D9: Amount claimed | E9: Amount of claim admitted | J9: Date of Verification | K9: Salary | L9: Gratuity | M9: Leave Encashment | N9: Caution Money/ Security Deposit | O9: Total | P9: Salary | Q9: Gratuity | R9: Leave Encashment | S9: Total | T9: Underverification | U9: Account No. | V9: Bank Name | W9: Branch Address | X9: Branch Code | Y9: IFSC Code | Z9: Designation | AA9: Declaration (Yes/No) | AB9: Email Id | AC9: Contact No. | AD9: Address | AE9: Queries Raised (with Date) | AF9: Salaray Slip | AK9: 44429 | AL9: 44460 | AM9: 44855 | AN9: 44521 | AO9: 44551 | AP9: Total salary- Aug-Nov, 2021 | AQ9: LEAVE ENCASHMENT | AR9: GRATUITY | AS9: TOTAL
A10: NIL
A11: Total | D11: =SUM(D10:D10) -> 0 | E11: =SUM(E10:E10) -> 0 | F11: =+SUM(F10:F10) -> 0 | H11: =SUM(H10:H10) -> 0

Sheet Annexure 6 - Govt Dues 
A1: Annexure 6
A3: Name of Corporate Debtor: | C3: Jord Engineers India Limited - Under CIRP
A4: Date of Commencement of CIRP: | C4: 42947
A5: List of Creditors as on: | C5: 46267
A6: List of Operational Creditors (Government dues)
A7: (Amount in ₹)
A8: Sr. No. | B8: Details of Claimant | D8: Details of claim received | F8: Details of claim admitted | G8: Amount of contingent claim | H8: Amount of claim under verification | I8: Amount of claim not admitted | J8: Remarks, if any
B9: Department | C9: Government | D9: Date of receipt | E9: Amount claimed | F9: Amount of claim admitted
A10: NIL
A11: Total | E11: =SUM(E10:E10) -> 0 | F11: =SUM(F10:F10) -> 0 | G11: - | H11: =SUM(H10:H10) -> 0 | I11: -

Sheet Annexure 7 - OC (other workmen 
A1: Annexure 7
A3: Name of Corporate Debtor: | C3: Jord Engineers India Limited - Under CIRP
A4: Date of Commencement of CIRP: | C4: 42947
A5: List of Creditors as on: | C5: 46267
A6: List of operational creditors (Other than Workmen and Employees and Government Dues)
A7: (Amount in ₹)
A8: Sr. No. | B8: Name of creditor | C8: Details of claim received | E8: Details of claim admitted | F8: Amount of contingent claim | G8: Amount of claim rejected | H8: Amount of claim under verification | I8: Remarks, if any | K8: Amount Claimed | O8: Amount Admitted | S8: Amount as per Books of Accounts | T8: Bank Account Details
C9: Date of receipt | D9: Amount claimed | E9: Amount of claim admitted | J9: Date of Verification | K9: Principal | L9: Interest | M9: Additional Interest | N9: Total | O9: Principal | P9: Interest | Q9: Additional Interest | R9: Total | T9: Account No. | U9: Bank Name | V9: Branch Address | W9: Branch Code | X9: IFSC Code | Y9: Authorised Person | Z9: Designation | AA9: Declaration (Yes/No) | AB9: Contact Person | AC9: Email Id | AD9: Contact No. | AE9: Address | AF9: Documents Submitted | AG9: Queries Raised (with Date) | AJ9: Additional Remarks
A10: 1 | B10: Valia & Co. | C10: 46266 | D10: 48298924 | E10: 48298924 | F10: 0 | G10: 0 | I10: Fully Admitted
A11: =+A10+1 -> 2 | B11: Indian Oil Corporation Limited | C11: 46267 | D11: 8.6043811e+09 | E11: 5056185581 | F11: 0 | G11: 0 | H11: =+D11-E11 -> 3.5481955e+09 | I11: Partly Admitted
A12: Total | D12: =SUM(D10:D11) -> 8.6526801e+09 | E12: =SUM(E10:E11) -> 5104484505 | F12: =SUM(F10:F10) -> 0 | G12: =SUM(G10:G10) -> 0 | H12: =SUM(D12-E12) -> 3.5481955e+09

Sheet Annexure 8 - Other Cr
A1: Annexure 8
A3: Name of Corporate Debtor: | C3: Jord Engineers India Limited - Under CIRP
A4: Date of Commencement of CIRP: | C4: 42947
A5: List of Creditors as on: | C5: 46267
A6: List of other creditors (Other than financial creditors and operational creditors)
A7: (Amount in ₹)
A8: Sr. No. | B8: Name of creditor | C8: Details of claim received | E8: Details of claim admitted | F8: Amount of contingent claim | G8: Amount of claim not admitted | H8: Amount of claim under verification | I8: Remarks, if any
C9: Date of receipt | D9: Amount claimed | E9: Amount of claim admitted
A10: NIL
A11: Total | D11: =-E13 -> 0 | E11: =SUM(E10:E10) -> 0 | F11: =SUM(F10:F10) -> 0 | G11: =SUM(G10:G10) -> 0 | H11: =SUM(H10:H10) -> 0
